Workbook
Name Print_Area_MI: #REF!

Sheet Inflation
A1: Table 7a. Point to Point Percentage Change in the All Items Index
A3: Month | C3: All Items index | I3: Percentage Change
B4: 2015 | C4: 2016 | D4: 2017 | E4: 2018 | F4: 2019 | G4: 2020 | H4: 2021 | I4: 2016 | J4: 2017 | K4: 2018 | L4: 2019 | M4: 2020 | N4: 2021
A5: January | B5: ='[1]IRP Summary Jan''15 to Jul''15'!E529 -> 168.73795 | C5: ='[1]IRP Summary Aug''15 to Jul ''16'!J529 -> 166.1 | D5: ='[1]IRP Summary Aug''16 to Jul''17'!J529 -> 174.2 | E5: ='[1]IRP Summary Aug''17 to Jul''18'!J529 -> 183.4 | F5: ='[1]IRP Summary Aug''18 to Jul''19'!J$529 -> 184.1 | G5: ='[1]IRP Summary Aug''19 to Jul''20'!J$529 -> 198.2 | H5: ='[1]IRP Summary Aug''20 to Jul''21'!J528 -> 201.5 | I5: =(C5-B5)*100/B5 -> -1.563339 | J5: =(D5-C5)*100/C5 -> 4.8765804 | K5: =(E5-D5)*100/D5 -> 5.2812859 | L5: =(F5-E5)*100/E5 -> 0.38167939 | M5: =(G5-F5)*100/F5 -> 7.658881 | N5: =(H5-G5)*100/G5 -> 1.6649849
A6: February | B6: ='[1]IRP Summary Jan''15 to Jul''15'!F529 -> 166.27377 | C6: ='[1]IRP Summary Aug''15 to Jul ''16'!K529 -> 164.9 | D6: ='[1]IRP Summary Aug''16 to Jul''17'!K529 -> 173.5 | E6: ='[1]IRP Summary Aug''17 to Jul''18'!K529 -> 184.6 | F6: ='[1]IRP Summary Aug''18 to Jul''19'!K$529 -> 186.7 | G6: ='[1]IRP Summary Aug''19 to Jul''20'!K$529 -> 195.2 | H6: NA | I6: =(C6-B6)*100/B6 -> -0.8262106 | J6: =(D6-C6)*100/C6 -> 5.215282 | K6: =(E6-D6)*100/D6 -> 6.3976945 | L6: =(F6-E6)*100/E6 -> 1.1375948 | M6: =(G6-F6)*100/F6 -> 4.5527584 | N6: NA
A7: March | B7: =ROUND('[1]IRP Summary Jan''15 to Jul''15'!G529,1) -> 164.9 | C7: ='[1]IRP Summary Aug''15 to Jul ''16'!L529 -> 164.9 | D7: ='[1]IRP Summary Aug''16 to Jul''17'!L529 -> 172.9 | E7: ='[1]IRP Summary Aug''17 to Jul''18'!L529 -> 183.6 | F7: ='[1]IRP Summary Aug''18 to Jul''19'!L$529 -> 187.5 | G7: ='[1]IRP Summary Aug''19 to Jul''20'!L$529 -> 195.5 | H7: ='[1]IRP Summary Aug''20 to Jul''21'!K528 -> 197.6 | I7: =(C7-B7)*100/B7 -> 0 | J7: =(D7-C7)*100/C7 -> 4.8514251 | K7: =(E7-D7)*100/D7 -> 6.1885483 | L7: =(F7-E7)*100/E7 -> 2.124183 | M7: =(G7-F7)*100/F7 -> 4.2666667 | N7: =(H7-G7)*100/G7 -> 1.0741688
A8: April | B8: ='[1]IRP Summary Jan''15 to Jul''15'!H529 -> 166.11839 | C8: ='[1]IRP Summary Aug''15 to Jul ''16'!M529 -> 165.6 | D8: ='[1]IRP Summary Aug''16 to Jul''17'!M529 -> 172 | E8: ='[1]IRP Summary Aug''17 to Jul''18'!M529 -> 181.6 | F8: ='[1]IRP Summary Aug''18 to Jul''19'!M$529 -> 187 | G8: NA | H8: ='[1]IRP Summary Aug''20 to Jul''21'!L528 -> 196.5 | I8: =(C8-B8)*100/B8 -> -0.31205851 | J8: =(D8-C8)*100/C8 -> 3.8647343 | K8: =(E8-D8)*100/D8 -> 5.5813953 | L8: =(F8-E8)*100/E8 -> 2.9735683 | M8: NA | N8: NA
A9: May | B9: ='[1]IRP Summary Jan''15 to Jul''15'!I529 -> 167.11582 | C9: ='[1]IRP Summary Aug''15 to Jul ''16'!N$529 -> 169.5 | D9: ='[1]IRP Summary Aug''16 to Jul''17'!N529 -> 173.4 | E9: ='[1]IRP Summary Aug''17 to Jul''18'!N529 -> 182.3 | F9: ='[1]IRP Summary Aug''18 to Jul''19'!N$529 -> 189.5 | G9: ='[1]IRP Summary Aug''19 to Jul''20'!M$529 -> 195 | H9: ='[1]IRP Summary Aug''20 to Jul''21'!M528 -> 198 | I9: =(C9-B9)*100/B9 -> 1.4266643 | J9: =(D9-C9)*100/C9 -> 2.300885 | K9: =(E9-D9)*100/D9 -> 5.1326413 | L9: =(F9-E9)*100/E9 -> 3.9495337 | M9: =(G9-F9)*100/F9 -> 2.9023747 | N9: =(H9-G9)*100/G9 -> 1.5384615
A10: June | B10: ='[1]IRP Summary Jan''15 to Jul''15'!J529 -> 168.46694 | C10: ='[1]IRP Summary Aug''15 to Jul ''16'!O$529 -> 169.6 | D10: ='[1]IRP Summary Aug''16 to Jul''17'!O529 -> 174.3 | E10: ='[1]IRP Summary Aug''17 to Jul''18'!O529 -> 183.8 | F10: ='[1]IRP Summary Aug''18 to Jul''19'!O$529 -> 189.8 | G10: ='[1]IRP Summary Aug''19 to Jul''20'!N$529 -> 194.3 | H10: ='[1]IRP Summary Aug''20 to Jul''21'!N528 -> 199.9 | I10: =(C10-B10)*100/B10 -> 0.67257282 | J10: =(D10-C10)*100/C10 -> 2.7712264 | K10: =(E10-D10)*100/D10 -> 5.4503729 | L10: =(F10-E10)*100/E10 -> 3.2644178 | M10: =(G10-F10)*100/F10 -> 2.3709168 | N10: =(H10-G10)*100/G10 -> 2.882141
A11: July | B11: ='[1]IRP Summary Jan''15 to Jul''15'!K529 -> 168.58029 | C11: ='[1]IRP Summary Aug''15 to Jul ''16'!P$529 -> 173.5 | D11: ='[1]IRP Summary Aug''16 to Jul''17'!P529 -> 176.5 | E11: ='[1]IRP Summary Aug''17 to Jul''18'!P529 -> 185.1 | F11: ='[1]IRP Summary Aug''18 to Jul''19'!P$529 -> 190.8 | G11: ='[1]IRP Summary Aug''19 to Jul''20'!O$529 -> 194.4 | I11: =(C11-B11)*100/B11 -> 2.9183185 | J11: =(D11-C11)*100/C11 -> 1.7291066 | K11: =(E11-D11)*100/D11 -> 4.8725212 | L11: =(F11-E11)*100/E11 -> 3.0794165 | M11: =(G11-F11)*100/F11 -> 1.8867925
A12: August | B12: ='[1]IRP Summary Aug''15 to Jul ''16'!E529 -> 168.77796 | C12: ='[1]IRP Summary Aug''16 to Jul''17'!E529 -> 173 | D12: ='[1]IRP Summary Aug''17 to Jul''18'!E529 -> 179.4 | E12: ='[1]IRP Summary Aug''18 to Jul''19'!E529 -> 184.4 | F12: ='[1]IRP Summary Aug''19 to Jul''20'!E529 -> 194.5 | G12: ='[1]IRP Summary Aug''20 to Jul''21'!E528 -> 198.2 | I12: =(C12-B12)*100/B12 -> 2.5015363 | J12: =(D12-C12)*100/C12 -> 3.699422 | K12: =(E12-D12)*100/D12 -> 2.787068 | L12: =(F12-E12)*100/E12 -> 5.4772234 | M12: =(G12-F12)*100/F12 -> 1.9023136
A13: September | B13: ='[1]IRP Summary Aug''15 to Jul ''16'!F529 -> 168.90875 | C13: ='[1]IRP Summary Aug''16 to Jul''17'!F529 -> 173.5 | D13: ='[1]IRP Summary Aug''17 to Jul''18'!F529 -> 181.3 | E13: ='[1]IRP Summary Aug''18 to Jul''19'!F529 -> 184.1 | F13: ='[1]IRP Summary Aug''19 to Jul''20'!F529 -> 196.4 | G13: ='[1]IRP Summary Aug''20 to Jul''21'!F528 -> 197.4 | I13: =(C13-B13)*100/B13 -> 2.7181841 | J13: =(D13-C13)*100/C13 -> 4.4956772 | K13: =(E13-D13)*100/D13 -> 1.5444015 | L13: =(F13-E13)*100/E13 -> 6.6811515 | M13: =(G13-F13)*100/F13 -> 0.50916497
A14: October | B14: ='[1]IRP Summary Aug''15 to Jul ''16'!G529 -> 167.90973 | C14: ='[1]IRP Summary Aug''16 to Jul''17'!G529 -> 172.6 | D14: ='[1]IRP Summary Aug''17 to Jul''18'!G529 -> 183.9 | E14: ='[1]IRP Summary Aug''18 to Jul''19'!G$529 -> 184.4 | F14: ='[1]IRP Summary Aug''19 to Jul''20'!G529 -> 197.2 | G14: ='[1]IRP Summary Aug''20 to Jul''21'!G$528 -> 199.6 | I14: =(C14-B14)*100/B14 -> 2.7933278 | J14: =(D14-C14)*100/C14 -> 6.5469293 | K14: =(E14-D14)*100/D14 -> 0.2718869 | L14: =(F14-E14)*100/E14 -> 6.9414317 | M14: =(G14-F14)*100/F14 -> 1.2170385
A15: November | B15: ='[1]IRP Summary Aug''15 to Jul ''16'!H529 -> 167.58795 | C15: ='[1]IRP Summary Aug''16 to Jul''17'!H529 -> 174.2 | D15: ='[1]IRP Summary Aug''17 to Jul''18'!H529 -> 184.9 | E15: ='[1]IRP Summary Aug''18 to Jul''19'!H$529 -> 186.5 | F15: ='[1]IRP Summary Aug''19 to Jul''20'!H529 -> 198.2 | G15: ='[1]IRP Summary Aug''20 to Jul''21'!H$528 -> 202 | I15: ='[1]IRP Summary Aug''19 to Jul''20'!I$529 -> 199.7 | J15: =(D15-C15)*100/C15 -> 6.1423651 | K15: =(E15-D15)*100/D15 -> 0.86533261 | L15: =(F15-E15)*100/E15 -> 6.2734584 | M15: =(G15-F15)*100/F15 -> 1.9172553
A16: December | B16: ='[1]IRP Summary Aug''15 to Jul ''16'!I529 -> 167.20765 | C16: ='[1]IRP Summary Aug''16 to Jul''17'!I529 -> 173.6 | D16: ='[1]IRP Summary Aug''17 to Jul''18'!I529 -> 185 | E16: ='[1]IRP Summary Aug''18 to Jul''19'!I$529 -> 186.3 | F16: ='[1]IRP Summary Aug''19 to Jul''20'!I529 -> 199.7 | G16: ='[1]IRP Summary Aug''20 to Jul''21'!I$528 -> 202.1 | I16: =(C16-B16)*100/B16 -> 3.8229997 | J16: =(D16-C16)*100/C16 -> 6.5668203 | K16: =(E16-D16)*100/D16 -> 0.7027027 | L16: =(F16-E16)*100/E16 -> 7.1926999 | M16: =(G16-F16)*100/F16 -> 1.2018027
A17: Annual Averages | B17: =GEOMEAN(B5:B16) -> 167.54432 | C17: =GEOMEAN(C5:C16) -> 170.04448 | D17: =GEOMEAN(D5:D16) -> 177.54403 | E17: =GEOMEAN(E5:E16) -> 184.16996 | F17: =GEOMEAN(F5:F16) -> 191.71873 | G17: =GEOMEAN(G5:G16) -> 197.42662 | I17: =GEOMEAN(I5:I16) -> #NUM! | J17: =(D17-C17)*100/C17 -> 4.410344 | K17: =(E17-D17)*100/D17 -> 3.7319914 | L17: =(F17-E17)*100/E17 -> 4.0988071 | M17: =(G17-F17)*100/F17 -> 2.9772236
A21: Table 7b. Averages for the Twelve Month Period
A23: Month | B23: Average All Items Index | I23: Inflation
B24: 2015 | C24: 2016 | D24: 2017 | E24: 2018 | F24: 2019 | G24: 2020 | H24: 2021 | I24: 2016 | J24: 2017 | K24: 2018 | L24: 2019 | M24: 2020 | N24: 2021
A25: January | B25: 169.60726 | C25: =GEOMEAN(B6:B16,C5) -> 167.32447 | D25: =GEOMEAN(C6:C16,D5) -> 170.72053 | E25: =GEOMEAN(D6:D16,E5) -> 178.30711 | F25: =GEOMEAN(E6:E16,F5) -> 184.22843 | G25: =GEOMEAN(F6:F16,G5) -> 192.90139 | H25: =GEOMEAN(G6:G16,H5) -> 197.72322 | I25: =(C25-B25)*100/B25 -> -1.3459305 | J25: =(D25-C25)*100/C25 -> 2.0296277 | K25: =(E25-D25)*100/D25 -> 4.4438603 | L25: =(F25-E25)*100/E25 -> 3.3208543 | M25: =(G25-F25)*100/F25 -> 4.7077201 | N25: =(H25-G25)*100/G25 -> 2.4996311
A26: February | B26: 169.51872 | C26: =GEOMEAN(B7:B16,C5:C6) -> 167.20883 | D26: =GEOMEAN(C7:C16,D5:D6) -> 171.44533 | E26: =GEOMEAN(D7:D16,E5:E6) -> 179.23096 | F26: =GEOMEAN(E7:E16,F5:F6) -> 184.40218 | G26: =GEOMEAN(F7:F16,G5:G6) -> 193.61841 | H26: NA | I26: =(C26-B26)*100/B26 -> -1.362622 | J26: =(D26-C26)*100/C26 -> 2.5336603 | K26: =(E26-D26)*100/D26 -> 4.541172 | L26: =(F26-E26)*100/E26 -> 2.8852275 | M26: =(G26-F26)*100/F26 -> 4.9978991 | N26: NA
A27: March | B27: 169.3375 | C27: =GEOMEAN(B8:B16,C5:C7) -> 167.20883 | D27: =GEOMEAN(C8:C16,D5:D7) -> 172.12351 | E27: =GEOMEAN(D8:D16,E5:E7) -> 180.13005 | F27: =GEOMEAN(E8:E16,F5:F7) -> 184.72546 | G27: =GEOMEAN(F8:F16,G5:G7) -> 194.29373 | H27: =GEOMEAN(G8:G16,H5:H7) -> 198.18896 | I27: =(C27-B27)*100/B27 -> -1.2570615 | J27: =(D27-C27)*100/C27 -> 2.9392476 | K27: =(E27-D27)*100/D27 -> 4.6516251 | L27: =(F27-E27)*100/E27 -> 2.5511649 | M27: =(G27-F27)*100/F27 -> 5.1797217 | N27: =(H27-G27)*100/G27 -> 2.0048191
A28: April | B28: 169.17759 | C28: =GEOMEAN(B9:B16,C5:C8) -> 167.16528 | D28: =GEOMEAN(C9:C16,D5:D8) -> 172.66827 | E28: =GEOMEAN(D9:D16,E5:E8) -> 180.94716 | F28: =GEOMEAN(E9:E16,F5:F8) -> 185.17708 | G28: NA | H28: =GEOMEAN(G9:G16,H5:H8) -> 198.03482 | I28: =(C28-B28)*100/B28 -> -1.1894653 | J28: =(D28-C28)*100/C28 -> 3.291943 | K28: =(E28-D28)*100/D28 -> 4.7946835 | L28: =(F28-E28)*100/E28 -> 2.3376552 | M28: NA | N28: NA
A29: May | B29: 169.05388 | C29: =GEOMEAN(B10:B16,C5:C9) -> 167.36273 | D29: =GEOMEAN(C10:C16,D5:D9) -> 172.9959 | E29: =GEOMEAN(D10:D16,E5:E9) -> 181.70348 | F29: =GEOMEAN(E10:E16,F5:F9) -> 185.77579 | G29: =GEOMEAN(F10:F16,G5:G9) -> 195.47851 | H29: =GEOMEAN(G10:G16,H5:H9) -> 198.30988 | I29: =(C29-B29)*100/B29 -> -1.0003601 | J29: =(D29-C29)*100/C29 -> 3.365843 | K29: =(E29-D29)*100/D29 -> 5.033402 | L29: =(F29-E29)*100/E29 -> 2.2411854 | M29: =(G29-F29)*100/F29 -> 5.2228091 | N29: =(H29-G29)*100/G29 -> 1.4484311
A30: June | B30: 168.99692 | C30: =GEOMEAN(B11:B16,C5:C10) -> 167.45625 | D30: =GEOMEAN(C11:C16,D5:D10) -> 173.39042 | E30: =GEOMEAN(D11:D16,E5:E10) -> 182.50885 | F30: =GEOMEAN(E11:E16,F5:F10) -> 186.27376 | G30: =GEOMEAN(F11:F16,G5:G10) -> 195.89536 | H30: =GEOMEAN(G11:G16,H5:H10) -> 198.82279 | I30: =(C30-B30)*100/B30 -> -0.9116554 | J30: =(D30-C30)*100/C30 -> 3.5437163 | K30: =(E30-D30)*100/D30 -> 5.2588969 | L30: =(F30-E30)*100/E30 -> 2.0628656 | M30: =(G30-F30)*100/F30 -> 5.1653032 | N30: =(H30-G30)*100/G30 -> 1.494383
A31: July | B31: 168.89631 | C31: =GEOMEAN(B12:B20,C9:C11) -> 168.93892 | D31: =GEOMEAN(C12:C16,D5:D11) -> 173.63831 | E31: =GEOMEAN(D12:D16,E5:E11) -> 183.23386 | F31: =GEOMEAN(E12:E16,F5:F11) -> 186.74515 | G31: =GEOMEAN(F12:F16,G5:G11) -> 196.22853 | I31: =(C31-B31)*100/B31 -> 0.025230074 | J31: =(D31-C31)*100/C31 -> 2.7817077 | K31: =(E31-D31)*100/D31 -> 5.5261728 | L31: =(F31-E31)*100/E31 -> 1.9162913 | M31: =(G31-F31)*100/F31 -> 5.0782438
A32: August | B32: 168.68396 | C32: =GEOMEAN(B13:B16,C5:C12) -> 168.20411 | D32: =GEOMEAN(C13:C16,D5:D12) -> 174.16474 | E32: =GEOMEAN(D13:D16,E5:E12) -> 183.65409 | F32: =GEOMEAN(E13:E16,F5:F12) -> 187.57685 | G32: =GEOMEAN(F13:F16,G5:G12) -> 196.56498 | I32: =(C32-B32)*100/B32 -> -0.28446489 | J32: =(D32-C32)*100/C32 -> 3.5436867 | K32: =(E32-D32)*100/D32 -> 5.4484902 | L32: =(F32-E32)*100/E32 -> 2.1359491 | M32: =(G32-F32)*100/F32 -> 4.791708
A33: September | B33: 168.56129 | C33: =GEOMEAN(B14:B16,C5:C13) -> 168.58046 | D33: =GEOMEAN(C14:C16,D5:D13) -> 174.80416 | E33: =GEOMEAN(D14:D16,E5:E13) -> 183.8888 | F33: =GEOMEAN(E14:E16,F5:F13) -> 188.59053 | G33: =GEOMEAN(F14:F16,G5:G13) -> 196.65576 | I33: =(C33-B33)*100/B33 -> 0.011372329 | J33: =(D33-C33)*100/C33 -> 3.6918302 | K33: =(E33-D33)*100/D33 -> 5.1970362 | L33: =(F33-E33)*100/E33 -> 2.5568338 | M33: =(G33-F33)*100/F33 -> 4.2765833
A34: October | B34: 168.26726 | C34: =GEOMEAN(B15:B16,C5:C14) -> 168.96794 | D34: =GEOMEAN(C15:C16,D5:D14) -> 175.73038 | E34: =GEOMEAN(D15:D16,E5:E14) -> 183.93041 | F34: =GEOMEAN(E15:E16,F5:F14) -> 189.64819 | G34: =GEOMEAN(F15:F16,G5:G14) -> 196.87214 | I34: =(C34-B34)*100/B34 -> 0.4164071 | J34: =(D34-C34)*100/C34 -> 4.0022036 | K34: =(E34-D34)*100/D34 -> 4.6662566 | L34: =(F34-E34)*100/E34 -> 3.1086669 | M34: =(G34-F34)*100/F34 -> 3.8091326
A35: November | B35: 167.89754 | C35: =GEOMEAN(B16,C5:C15) -> 169.51368 | D35: =GEOMEAN(C16,D5:D15) -> 176.60551 | E35: =GEOMEAN(D16,E5:E15) -> 184.06252 | F35: =GEOMEAN(E16:E16,F5:F15) -> 190.61223 | G35: =GEOMEAN(F16,G5:G15) -> 197.21233 | I35: =(C35-B35)*100/B35 -> 0.96257155 | J35: =(D35-C35)*100/C35 -> 4.1836313 | K35: =(E35-D35)*100/D35 -> 4.2224126 | L35: =(F35-E35)*100/E35 -> 3.5584193 | M35: =(G35-F35)*100/F35 -> 3.462576
A36: December | B36: 167.54432 | C36: =GEOMEAN(C5:C16) -> 170.04448 | D36: =GEOMEAN(D5:D16) -> 177.54403 | E36: =GEOMEAN(E5:E16) -> 184.16996 | F36: =GEOMEAN(F5:F16) -> 191.71873 | G36: =GEOMEAN(G5:G16) -> 197.42662 | I36: =(C36-B36)*100/B36 -> 1.4922385 | J36: =(D36-C36)*100/C36 -> 4.410344 | K36: =(E36-D36)*100/D36 -> 3.7319914 | L36: =(F36-E36)*100/E36 -> 4.0988071 | M36: =(G36-F36)*100/F36 -> 2.9772236
A38: Source: Barbados Statistical Service
